BEGIN:VCALENDAR
VERSION:2.0
PRODID:-//Mount Olive Democrats - ECPv6.15.20//NONSGML v1.0//EN
CALSCALE:GREGORIAN
METHOD:PUBLISH
X-WR-CALNAME:Mount Olive Democrats
X-ORIGINAL-URL:https://mountolivedemocrats.org
X-WR-CALDESC:Events for Mount Olive Democrats
REFRESH-INTERVAL;VALUE=DURATION:PT1H
X-Robots-Tag:noindex
X-PUBLISHED-TTL:PT1H
BEGIN:VTIMEZONE
TZID:America/New_York
BEGIN:DAYLIGHT
TZOFFSETFROM:-0500
TZOFFSETTO:-0400
TZNAME:EDT
DTSTART:20250309T070000
END:DAYLIGHT
BEGIN:STANDARD
TZOFFSETFROM:-0400
TZOFFSETTO:-0500
TZNAME:EST
DTSTART:20251102T060000
END:STANDARD
BEGIN:DAYLIGHT
TZOFFSETFROM:-0500
TZOFFSETTO:-0400
TZNAME:EDT
DTSTART:20260308T070000
END:DAYLIGHT
BEGIN:STANDARD
TZOFFSETFROM:-0400
TZOFFSETTO:-0500
TZNAME:EST
DTSTART:20261101T060000
END:STANDARD
BEGIN:DAYLIGHT
TZOFFSETFROM:-0500
TZOFFSETTO:-0400
TZNAME:EDT
DTSTART:20270314T070000
END:DAYLIGHT
BEGIN:STANDARD
TZOFFSETFROM:-0400
TZOFFSETTO:-0500
TZNAME:EST
DTSTART:20271107T060000
END:STANDARD
END:VTIMEZONE
BEGIN:VEVENT
DTSTART;TZID=America/New_York:20260111T123000
DTEND;TZID=America/New_York:20260111T150000
DTSTAMP:20260424T080742
CREATED:20251220T005443Z
LAST-MODIFIED:20251220T005802Z
UID:5048-1768134600-1768143600@mountolivedemocrats.org
SUMMARY:CD-7 Democratic Candidate Forum
DESCRIPTION:The eyes of the nation are on NJ’s 7th district watching to see who the Democratic nominee for Congress will be to take on GOP Rep. Tom Kean Jr. in our 2026 toss-up battleground district. \n\n\n\nMount Olive Democrats and Door-to-Door Democracy have invited all declared candidates for the 7th to join us. \n\n\n\nThis event’s address is private.Sign up for more details. \n\n\n\nhttps://www.mobilize.us/mobilize/event/876698 \n\n\n\nSign up today!
URL:https://mountolivedemocrats.org/event/cd-7-democratic-candidate-forum/
CATEGORIES:Educational Events,Featured Event
ATTACH;FMTTYPE=image/png:https://mountolivedemocrats.org/wp-content/uploads/sites/8/2025/12/CD-7-Forum.png
END:VEVENT
BEGIN:VEVENT
DTSTART;TZID=America/New_York:20260119T063000
DTEND;TZID=America/New_York:20260119T200000
DTSTAMP:20260424T080742
CREATED:20231221T234028Z
LAST-MODIFIED:20260115T171143Z
UID:3049-1768804200-1768852800@mountolivedemocrats.org
SUMMARY:January 2026 Monthly Meeting
DESCRIPTION:Take Action with the Mount Olive Democrats!\n\n\n\nJanuary 19\, 2026 is also Martin Luther King Day! \n\n\n\nTake part in our democracy with your like-minded neighbors! \n\n\n\nCOME MEET NO ICE IN NORTH JERSEY (NINJA) LEAD WILLIAM ANGUS \n\n\n\nRSVP HERE- https://www.mobilize.us/mountolivedemocrats/event/887137/ \n\n\n\nMeetings for 2026 are scheduled for the third Monday of each month and will be at the Senior Center.
URL:https://mountolivedemocrats.org/event/january-monthly-meeting/
LOCATION:Mount Olive Senior Center\, 204 Flanders Drakestown Road\, Budd Lake\, New Jersey\, United States
CATEGORIES:Educational Events,Featured Event
ATTACH;FMTTYPE=image/png:https://mountolivedemocrats.org/wp-content/uploads/sites/8/2023/12/Jan-26-Meeting.png
END:VEVENT
END:VCALENDAR