BEGIN:VCALENDAR
VERSION:2.0
PRODID:-//Mount Olive Democrats - ECPv6.15.20//NONSGML v1.0//EN
CALSCALE:GREGORIAN
METHOD:PUBLISH
X-ORIGINAL-URL:https://mountolivedemocrats.org
X-WR-CALDESC:Events for Mount Olive Democrats
REFRESH-INTERVAL;VALUE=DURATION:PT1H
X-Robots-Tag:noindex
X-PUBLISHED-TTL:PT1H
BEGIN:VTIMEZONE
TZID:America/New_York
BEGIN:DAYLIGHT
TZOFFSETFROM:-0500
TZOFFSETTO:-0400
TZNAME:EDT
DTSTART:20250309T070000
END:DAYLIGHT
BEGIN:STANDARD
TZOFFSETFROM:-0400
TZOFFSETTO:-0500
TZNAME:EST
DTSTART:20251102T060000
END:STANDARD
BEGIN:DAYLIGHT
TZOFFSETFROM:-0500
TZOFFSETTO:-0400
TZNAME:EDT
DTSTART:20260308T070000
END:DAYLIGHT
BEGIN:STANDARD
TZOFFSETFROM:-0400
TZOFFSETTO:-0500
TZNAME:EST
DTSTART:20261101T060000
END:STANDARD
BEGIN:DAYLIGHT
TZOFFSETFROM:-0500
TZOFFSETTO:-0400
TZNAME:EDT
DTSTART:20270314T070000
END:DAYLIGHT
BEGIN:STANDARD
TZOFFSETFROM:-0400
TZOFFSETTO:-0500
TZNAME:EST
DTSTART:20271107T060000
END:STANDARD
END:VTIMEZONE
BEGIN:VEVENT
DTSTART;TZID=America/New_York:20260518T190000
DTEND;TZID=America/New_York:20260518T203000
DTSTAMP:20260421T111215
CREATED:20250428T163700Z
LAST-MODIFIED:20251220T020903Z
UID:2008-1779130800-1779136200@mountolivedemocrats.org
SUMMARY:May Monthly Meeting
DESCRIPTION:6:30 Meet and Greet\, 7:00 Meeting Start.  \n\n\n\n﻿ \n\n\n\n \n\n\n\nOur May 17\, 2017 Meeting was full of concerned citizens determined to defend our democracy.
URL:https://mountolivedemocrats.org/event/may-monthly-meeting-2/
LOCATION:Mount Olive Senior Center\, 204 Flanders Drakestown Road\, Budd Lake\, New Jersey\, United States
CATEGORIES:Educational Events,Featured Event
ATTACH;FMTTYPE=image/png:https://mountolivedemocrats.org/wp-content/uploads/sites/8/2022/06/Monthly-Meeting-Template-2022.png
END:VEVENT
END:VCALENDAR