BEGIN:VCALENDAR
VERSION:2.0
PRODID:-//Mount Olive Democrats - ECPv6.15.20//NONSGML v1.0//EN
CALSCALE:GREGORIAN
METHOD:PUBLISH
X-ORIGINAL-URL:https://mountolivedemocrats.org
X-WR-CALDESC:Events for Mount Olive Democrats
REFRESH-INTERVAL;VALUE=DURATION:PT1H
X-Robots-Tag:noindex
X-PUBLISHED-TTL:PT1H
BEGIN:VTIMEZONE
TZID:America/New_York
BEGIN:DAYLIGHT
TZOFFSETFROM:-0500
TZOFFSETTO:-0400
TZNAME:EDT
DTSTART:20250309T070000
END:DAYLIGHT
BEGIN:STANDARD
TZOFFSETFROM:-0400
TZOFFSETTO:-0500
TZNAME:EST
DTSTART:20251102T060000
END:STANDARD
BEGIN:DAYLIGHT
TZOFFSETFROM:-0500
TZOFFSETTO:-0400
TZNAME:EDT
DTSTART:20260308T070000
END:DAYLIGHT
BEGIN:STANDARD
TZOFFSETFROM:-0400
TZOFFSETTO:-0500
TZNAME:EST
DTSTART:20261101T060000
END:STANDARD
BEGIN:DAYLIGHT
TZOFFSETFROM:-0500
TZOFFSETTO:-0400
TZNAME:EDT
DTSTART:20270314T070000
END:DAYLIGHT
BEGIN:STANDARD
TZOFFSETFROM:-0400
TZOFFSETTO:-0500
TZNAME:EST
DTSTART:20271107T060000
END:STANDARD
END:VTIMEZONE
BEGIN:VEVENT
DTSTART;TZID=America/New_York:20260316T183000
DTEND;TZID=America/New_York:20260316T200000
DTSTAMP:20260422T061515
CREATED:20250220T211906Z
LAST-MODIFIED:20260314T141512Z
UID:4211-1773685800-1773691200@mountolivedemocrats.org
SUMMARY:March Monthly Meeting
DESCRIPTION:MEET BETH ADUBATO\, Candidate for Congress\n\n\n\nTake part in lively discussion and learn how to volunteer. Also meet Om Savargaonkar\, Campaign manager for Rebecca Bennett for Congress and Emmett Shell\, Campaign manager for Brian Varela. \n\n\n\nCome early for pizza! \n\n\n\nShow up to stand in solidarity with your like-minded neighbors.  \n\n\n\nRSVP today: mobilize.us/mountolivedemocrats/event/918953
URL:https://mountolivedemocrats.org/event/march-monthly-meeting/
LOCATION:Mount Olive Senior Center\, 204 Flanders Drakestown Road\, Budd Lake\, New Jersey\, United States
CATEGORIES:Featured Event,Monthly Meeting
ATTACH;FMTTYPE=image/png:https://mountolivedemocrats.org/wp-content/uploads/sites/8/2025/02/March-2026-Meeting.png
END:VEVENT
END:VCALENDAR